BEGIN:VCALENDAR
VERSION:2.0
PRODID:-//hsp academy - Hochsensibilität, Spiritualität, Partnerschaft - ECPv6.15.20//NONSGML v1.0//EN
CALSCALE:GREGORIAN
METHOD:PUBLISH
X-ORIGINAL-URL:https://hsp-academy.de
X-WR-CALDESC:Veranstaltungen für hsp academy - Hochsensibilität, Spiritualität, Partnerschaft
REFRESH-INTERVAL;VALUE=DURATION:PT1H
X-Robots-Tag:noindex
X-PUBLISHED-TTL:PT1H
BEGIN:VTIMEZONE
TZID:Europe/Berlin
BEGIN:DAYLIGHT
TZOFFSETFROM:+0100
TZOFFSETTO:+0200
TZNAME:CEST
DTSTART:20240331T010000
END:DAYLIGHT
BEGIN:STANDARD
TZOFFSETFROM:+0200
TZOFFSETTO:+0100
TZNAME:CET
DTSTART:20241027T010000
END:STANDARD
BEGIN:DAYLIGHT
TZOFFSETFROM:+0100
TZOFFSETTO:+0200
TZNAME:CEST
DTSTART:20250330T010000
END:DAYLIGHT
BEGIN:STANDARD
TZOFFSETFROM:+0200
TZOFFSETTO:+0100
TZNAME:CET
DTSTART:20251026T010000
END:STANDARD
BEGIN:DAYLIGHT
TZOFFSETFROM:+0100
TZOFFSETTO:+0200
TZNAME:CEST
DTSTART:20260329T010000
END:DAYLIGHT
BEGIN:STANDARD
TZOFFSETFROM:+0200
TZOFFSETTO:+0100
TZNAME:CET
DTSTART:20261025T010000
END:STANDARD
END:VTIMEZONE
BEGIN:VEVENT
DTSTART;TZID=Europe/Berlin:20251015T190000
DTEND;TZID=Europe/Berlin:20251015T210000
DTSTAMP:20260420T080916
CREATED:20251006T085543Z
LAST-MODIFIED:20251011T131330Z
UID:37718-1760554800-1760562000@hsp-academy.de
SUMMARY:Queens Manifest
DESCRIPTION:Queens Manifest\nStärkender Gruppen-Abend mit Embodyment & Schreibritual \nKursleitung: Dipl.-Psych. Sylvia Harke\nDirekt zur Bestellung (hier klicken) \n			\n				\n				\n				\n				\n				Seminarzeiten\n🕙 15.10.2025 Session: 19:00 – 21:00 Uhr \nZielgruppe\nFür Frauen\, die spüren\, dass es an der Zeit wird\, ihre Kraft und Würde zu verkörpern. Frau sensitive Frauen\, die ein eigenes Business haben oder gründen wollen oder in ihren Beziehungen nicht länger das Aschenputtel spielen wollen. Frauen\, die mehr vom Leben wollen als nur im Survival Modus festzustecken. Frauen\, die aus ihrer Komfortzone herauskommen wollen. \nAblauf\nWir treffen uns in Zoom und werden gemeinsam verschiedene Embodiment Übungen zur Königinnen Energie durchführen. Wir aktivieren neue Körperhaltungen und damit verbundene Gefühle und Gedanken der Fülle\, der Würde und Souveränität. Ideal für Dich\, wenn Du Schluss machen möchtest mit People Pleasing. Lege Dir als Vorbereitung ein wertvolles Papier bereit\, einen Stift\, um Dein Queens Manifest zu beginnen. Wir werden diese Arbeit im Wochenend-Seminar vom 17.-19.10.2025 vertiefen. \n  \n🧜‍♀️ Leitung\nSylvia Harke: Diplom-Psychologin\, Autorin & Mentorin für hochsensible FrauenSeit über 15 Jahren begleite ich Frauen auf dem Weg zu emotionaler Klarheit\, gesunder Selbstliebe und mutiger Sichtbarkeit. \n📍 Ort\nOnline in Zoom \n🎟 Investition in dich\n22\,00 €  für den gesamten Seminartag inklusive beider Live-Sessions und Aufzeichnungen. \nLeitung:\nSylvia Harke: Coach für Hochsensibilität\, Selbstliebe & emotionale Heilung \n📍 Ort: Online in Zoom📅 Datum & Uhrzeit: 15.10.2025 von 19:00 – 21:00 Uhr🎟 Investition in dich: 22\,00 € \n💌 Plätze sind begrenzt – sichere dir deinen Platz jetzt! \nDu brauchst dafür: \n\neinen Internetanschluss\noder ein internetfähiges Handy\n\n  \nRücktritt\nEin Rücktritt von der Bestellung ist bis 14 Tage vor Seminar-Beginn und muss schriftlich per Email an support@hsp-academy.de erfolgen. Eine Angabe von Gründen ist nicht nötig. \n			\n				Ich will dabei sein!
URL:https://hsp-academy.de/termin/queensmanifest/
LOCATION:online
CATEGORIES:Online Seminar
ATTACH;FMTTYPE=image/jpeg:https://hsp-academy.de/wp-content/uploads/2023/02/Vom-Survival-Modus-in-Deine-Koeniginnen-Energie1.jpg
ORGANIZER;CN="hsp academy":MAILTO:support[at]hsp-academy.de
END:VEVENT
END:VCALENDAR