BEGIN:VCALENDAR
VERSION:2.0
PRODID:-//hsp academy - Hochsensibilität, Spiritualität, Partnerschaft - ECPv6.15.20//NONSGML v1.0//EN
CALSCALE:GREGORIAN
METHOD:PUBLISH
X-ORIGINAL-URL:https://hsp-academy.de
X-WR-CALDESC:Veranstaltungen für hsp academy - Hochsensibilität, Spiritualität, Partnerschaft
REFRESH-INTERVAL;VALUE=DURATION:PT1H
X-Robots-Tag:noindex
X-PUBLISHED-TTL:PT1H
BEGIN:VTIMEZONE
TZID:Europe/Berlin
BEGIN:DAYLIGHT
TZOFFSETFROM:+0100
TZOFFSETTO:+0200
TZNAME:CEST
DTSTART:20240331T010000
END:DAYLIGHT
BEGIN:STANDARD
TZOFFSETFROM:+0200
TZOFFSETTO:+0100
TZNAME:CET
DTSTART:20241027T010000
END:STANDARD
BEGIN:DAYLIGHT
TZOFFSETFROM:+0100
TZOFFSETTO:+0200
TZNAME:CEST
DTSTART:20250330T010000
END:DAYLIGHT
BEGIN:STANDARD
TZOFFSETFROM:+0200
TZOFFSETTO:+0100
TZNAME:CET
DTSTART:20251026T010000
END:STANDARD
BEGIN:DAYLIGHT
TZOFFSETFROM:+0100
TZOFFSETTO:+0200
TZNAME:CEST
DTSTART:20260329T010000
END:DAYLIGHT
BEGIN:STANDARD
TZOFFSETFROM:+0200
TZOFFSETTO:+0100
TZNAME:CET
DTSTART:20261025T010000
END:STANDARD
BEGIN:DAYLIGHT
TZOFFSETFROM:+0100
TZOFFSETTO:+0200
TZNAME:CEST
DTSTART:20270328T010000
END:DAYLIGHT
BEGIN:STANDARD
TZOFFSETFROM:+0200
TZOFFSETTO:+0100
TZNAME:CET
DTSTART:20271031T010000
END:STANDARD
END:VTIMEZONE
BEGIN:VEVENT
DTSTART;TZID=Europe/Berlin:20251221T140000
DTEND;TZID=Europe/Berlin:20260106T190000
DTSTAMP:20260420T125635
CREATED:20240503T180643Z
LAST-MODIFIED:20251117T102235Z
UID:35499-1766325600-1767726000@hsp-academy.de
SUMMARY:Kreatives Rauhnächte Seminar
DESCRIPTION:Kreatives Rauhnächte Seminar\nfür Deine Seelenvision 2026\n \nKursleitung: Dipl.-Psych. Sylvia Harke\nDirekt zur Bestellung per Vorkasse (hier klicken) \n			\n				\n				\n				\n				\n				Begib dich auf eine kreative Reise durch die Rauhnächte und gestalte deine persönlichen Rituale für Klarheit\, Vision und kreative Entfaltung. Im Rauhnächte-Kreativseminar erwarten dich inspirierende Live-Events\, tägliche Impulse und eine unterstützende Gemeinschaft\, um dich auf das neue Jahr vorzubereiten. \nDas bekommst Du:\n\n\n\n\n\n\nBegleitet von mir und einer Online Gruppe von gleichgesinnten Frauen tauchen wir an drei besonderen Abenden in kreative und spirituelle Prozesse ein: \nLive-Sessions (je 2 h online): \nLIVE 1 · 21.12.2025 – 14 UhrWintersonnenwende & das Drehbuch deiner SeeleRituale · Loslassen · Intuitiver Jahresabschluss \nLIVE 2 · 28.12.2025 – 14 UhrVision & Archetypen deiner Mission 2026Visionscollage · Symbole · Jahresbotschaften \nLIVE 3 · 03.01.2026 – 16 UhrFokus\, Flow & Umsetzung im JahreskreisIntegration · Erdung · Meilensteine malen \nLIVE 4 · 06.01.2026 – 18 UhrKrönung deiner JahresvisionAbschlussritual · Verankerung · dein Archetyp für 2025 gemalt \n✨ Zwischen den Sessions erhältst du: \n\n24 Rauhnächte-E-Mails\nAustausch in der Telegram-Community ab 14.12.2025\n\n✨ Aufzeichnungen der Live-Events per E-Mail \nMelde dich jetzt an und kreiere deine Vision für 2026! \n\n\n\n\n\n\n			\n				zur Bestellung ab dem 21.12.2025\n			\n				\n				\n				\n				\n				\nRauhnächte Seminar Methoden\n\n\n\nIn unserem „Magie der Rauhnächte“ Kreativseminar arbeiten wir online in Zoom mit achtsamen und intuitiven Methoden\, die dich sanft mit deiner inneren Weisheit verbinden: \n\nVisionscollagen\nJournaling für Deine Wünsche & Ziele 2026\nintuitives Malen für kreative\, visuelle Impulse\nGeführte Meditationen & Geschichten\, um deine Intuition zu vertiefen\nTägliche Impulse & Anregungen für deine Rauhnachts-Rituale\n\nGemeinsam im Zoom-Raum kreieren wir eine stimmungsvolle Atmosphäre in der Gruppe\, in der du dich öffnen und deine Herzensvision für 2026 entfalten kannst. \n\n\n\n  \n\n\nPreis: 297\,- €\n\n  \n			\n			\n				\n				\n				\n				\n			\n				\n				\n				\n				\n				\n				\n				\n				\n				\n				\n				      Sie sehen gerade einen Platzhalterinhalt von YouTube. Um auf den eigentlichen Inhalt zuzugreifen\, klicken Sie auf die Schaltfläche unten. Bitte beachten Sie\, dass dabei Daten an Drittanbieter weitergegeben werden.  Mehr Informationen   Inhalt entsperren Erforderlichen Service akzeptieren und Inhalte entsperren   \n				\n			\n			\n				\n				\n				\n				\n			\n				\n				\n				\n				\n				\n				\n				zur Bestellung ab dem 21.12.2025
URL:https://hsp-academy.de/termin/kreatives-rauhnaechte-seminar/
LOCATION:online
CATEGORIES:Online Seminar
ATTACH;FMTTYPE=image/jpeg:https://hsp-academy.de/wp-content/uploads/2024/05/Verbundenheit.jpg
ORGANIZER;CN="hsp academy":MAILTO:support[at]hsp-academy.de
END:VEVENT
BEGIN:VEVENT
DTSTART;TZID=Europe/Berlin:20251221T140000
DTEND;TZID=Europe/Berlin:20260106T190000
DTSTAMP:20260420T125635
CREATED:20240503T180643Z
LAST-MODIFIED:20240503T180643Z
UID:38693-1766325600-1767726000@hsp-academy.de
SUMMARY:Kreatives Rauhnächte Seminar
DESCRIPTION:Kreatives Rauhnächte Seminar\nfür Deine Seelenvision 2026\n \nKursleitung: Dipl.-Psych. Sylvia Harke\nDirekt zur Bestellung per Vorkasse (hier klicken) \n			\n				\n				\n				\n				\n				Begib dich auf eine kreative Reise durch die Rauhnächte und gestalte deine persönlichen Rituale für Klarheit\, Vision und kreative Entfaltung. Im Rauhnächte-Kreativseminar erwarten dich inspirierende Live-Events\, tägliche Impulse und eine unterstützende Gemeinschaft\, um dich auf das neue Jahr vorzubereiten. \nDas bekommst Du:\n\n\n\n\n\n\nBegleitet von mir und einer Online Gruppe von gleichgesinnten Frauen tauchen wir an drei besonderen Abenden in kreative und spirituelle Prozesse ein: \nLive-Sessions (je 2 h online): \nLIVE 1 · 21.12.2025 – 14 UhrWintersonnenwende & das Drehbuch deiner SeeleRituale · Loslassen · Intuitiver Jahresabschluss \nLIVE 2 · 28.12.2025 – 14 UhrVision & Archetypen deiner Mission 2026Visionscollage · Symbole · Jahresbotschaften \nLIVE 3 · 03.01.2026 – 16 UhrFokus\, Flow & Umsetzung im JahreskreisIntegration · Erdung · Meilensteine malen \nLIVE 4 · 06.01.2026 – 18 UhrKrönung deiner JahresvisionAbschlussritual · Verankerung · dein Archetyp für 2025 gemalt \n✨ Zwischen den Sessions erhältst du: \n\n24 Rauhnächte-E-Mails\nAustausch in der Telegram-Community ab 14.12.2025\n\n✨ Aufzeichnungen der Live-Events per E-Mail \nMelde dich jetzt an und kreiere deine Vision für 2026! \n\n\n\n\n\n\n			\n				zur Bestellung ab dem 21.12.2025\n			\n				\n				\n				\n				\n				\nRauhnächte Seminar Methoden\n\n\n\nIn unserem „Magie der Rauhnächte“ Kreativseminar arbeiten wir online in Zoom mit achtsamen und intuitiven Methoden\, die dich sanft mit deiner inneren Weisheit verbinden: \n\nVisionscollagen\nJournaling für Deine Wünsche & Ziele 2026\nintuitives Malen für kreative\, visuelle Impulse\nGeführte Meditationen & Geschichten\, um deine Intuition zu vertiefen\nTägliche Impulse & Anregungen für deine Rauhnachts-Rituale\n\nGemeinsam im Zoom-Raum kreieren wir eine stimmungsvolle Atmosphäre in der Gruppe\, in der du dich öffnen und deine Herzensvision für 2026 entfalten kannst. \n\n\n\n  \n\n\nPreis: 297\,- €\n\n  \n			\n			\n				\n				\n				\n				\n			\n				\n				\n				\n				\n				\n				\n				\n				\n				\n				\n				      Sie sehen gerade einen Platzhalterinhalt von YouTube. Um auf den eigentlichen Inhalt zuzugreifen\, klicken Sie auf die Schaltfläche unten. Bitte beachten Sie\, dass dabei Daten an Drittanbieter weitergegeben werden.  Mehr Informationen   Inhalt entsperren Erforderlichen Service akzeptieren und Inhalte entsperren   \n				\n			\n			\n				\n				\n				\n				\n			\n				\n				\n				\n				\n				\n				\n				zur Bestellung ab dem 21.12.2025
URL:https://hsp-academy.de/termin/kreatives-rauhnaechte-seminar-2/
LOCATION:online
CATEGORIES:Online Seminar
ATTACH;FMTTYPE=image/jpeg:https://hsp-academy.de/wp-content/uploads/2024/05/Verbundenheit.jpg
ORGANIZER;CN="hsp academy":MAILTO:support[at]hsp-academy.de
END:VEVENT
BEGIN:VEVENT
DTSTART;TZID=Europe/Berlin:20260111T100000
DTEND;TZID=Europe/Berlin:20260125T200000
DTSTAMP:20260420T125635
CREATED:20200705T080030Z
LAST-MODIFIED:20260101T102302Z
UID:13728-1768125600-1769371200@hsp-academy.de
SUMMARY:Calm on Camera Challenge
DESCRIPTION:Calm on Camera: 6-teilige Live-Challenge\nvom 11.-25.1.2026 online (zur Bestellung) \nExperimentiere mit Sichtbarkeit. Entwickle deine eigene Kamerasprache.Ein geschützter Experimentierrraum für HSP & Scanner\, die selbständig sind (oder es aufbauen) und mit ihrer Arbeit sichtbar werden wollen – ohne sich in fremde Formate zu pressen. \nWorum es in dieser Challenge wirklich geht\nDiese Challenge ist kein Technik-Training und kein Social-Media-Push.Sie ist ein strukturierter Experimentierraum. Viele hochsensible\, multipassionate Selbständige haben viel zu sagen\, aber keine stimmige Beziehung zur Kamera. \nWas du nach den 6 Terminen kannst\nAm Ende der Challenge: \n\nfühlt sich die Kamera vertrauter und weniger aufgeladen an\nweißt du\, wie du vor der Kamera experimentieren kannst\, statt zu performen\nhast du mehrere kurze Videoaufnahmen\, die sich echt anfühlen\nkennst du verschiedene Videoformate – und weißt\, welche zu dir passen\nhast du mehr Vertrauen in deine Stimme\, Präsenz und Wirkung\n\n \nSo kreieren wir\n\nLive in Zoom (mit Aufzeichnung)\nkurze\, klare Kamera-Experimente\nArbeiten mit dem eigenen Smartphone\nkein Vorzeigen-Müssen\, kein Vergleich\, keine Bewertung\n\n \nWas Du gewinnen kannst!🏆\nDie Teilnehmerin\, die nach der Challenge am meisten Videos veröffentlich hat\, erhält von mir eine 1:1 gratis Strategie Session im wert von 250 € \nJeder Termin enthält: \n\neinen klaren Impuls\neine einfache Übung\neine direkt umsetzbare Mini-Challenge\nDu erhältst Feedback nach der Veröffentlichung in Telegram oder auf Deinem Kanal\n\n \nDie 6 Live-Termine\n\nSo\, 11.01.2026 · 11:00 Uhr\nDie. 13.1.2026 · 10:00 Uhr\nDo\, 15.01.2026 · 10:00 Uhr\nMi\, 21.01.2026 · 19:00 Uhr\nDo\, 22.01.2026 · 19:00 Uhr\nSo\, 25.01.2026 · 10:00 Uhr\n\nZusätzlich: \n\ngeschlossene Telegram-Gruppe nur für diese Challenge\nTeilen von Videos freiwillig(Instagram oder Telegram)\n\n  \nFür wen diese Challenge gedacht ist\nFür dich\, wenn du: \n\nhochsensibel bist oder ein Scanner-Profil hast\nselbständig bist alsCoach\, Trainer:in\, Therapeut:in\, Berater:in oder Künstler:in(auch in Teilzeit oder im Aufbau)\nInhalte hast\, aber vor der Kamera ins Stocken gerätst\nsichtbar werden willst\, ohne dich zu verbiegen\nLust hast\, zu experimentieren statt dich zu optimieren\n\n  \n\nWas du konkret mitnimmst\n✔️ mehr Leichtigkeit im Umgang mit der Kamera✔️ mehrere eigene Videoaufnahmen als Referenz✔️ Klarheit über passende Videoformate✔️ mehr Sicherheit in Stimme & Ausdruck✔️ ein neues inneres Verhältnis zu Sichtbarkeit\n\n  \n\nRahmen\nFormat: 6 Live-Sessions via Zoom\nDauer: je 60–90 Minuten\nAufzeichnung: inklusive\nVorkenntnisse: keine erforderlich\n\n			\n				zur Buchung (120 €)
URL:https://hsp-academy.de/termin/buehne-frei-authentisch-sichbar-werden-im-business-fuer-hochsensible/
LOCATION:online
CATEGORIES:Seminare
ATTACH;FMTTYPE=image/jpeg:https://hsp-academy.de/wp-content/uploads/2020/07/Calm-on-Camera-Workshop2-scaled.jpg
ORGANIZER;CN="hsp academy":MAILTO:support[at]hsp-academy.de
END:VEVENT
BEGIN:VEVENT
DTSTART;TZID=Europe/Berlin:20260116T170000
DTEND;TZID=Europe/Berlin:20260118T170000
DTSTAMP:20260420T125635
CREATED:20230501T090043Z
LAST-MODIFIED:20260102T200259Z
UID:27374-1768582800-1768755600@hsp-academy.de
SUMMARY:Modul 4 Sensitive Soul Coach Ausbildung
DESCRIPTION:Senstive Soul Coach Ausbildung-\nModul 4: Erdung\, Embodyment\, Vagus & Money Mindset\n			\n				\n				\n				\n				\n				\nDas sind unsere Themen \n(zur Bestellung von Deinem Seminarplatz) \n\n \n \n\nDieses Modul richtet sich an Menschen\, Coches und Therapeuten\, die ihre Sensibilität nicht länger nur mental verstehen\, sondern verkörpern\, tragen und im Alltag leben wollen. Das Thema Embodyment wird praktisch angewendet. \nIm Mittelpunkt steht die Frage: Wie komme ich wirklich im eigenen Körper\, im eigenen Leben und in dieser Welt an\, trotz Tiefe\, Weltschmerz und Sehnsucht? \n✨ Stell dir vor … \n…du bist in deinem Körper zuhause. 🌿Du spürst dich klar\, lebendig und verbunden.Dein Körper trägt dich durch den Alltagund gibt dir Orientierung\, Sicherheit und Präsenz. \n✨ Und stell dir vor\, du kannst genau dieses Gefühl von Ankommenauch an andere weitergeben.Nicht als Technik –sondern durch deine eigene Verkörperung. \n…deine Sensibilität ist eine feine\, zuverlässige Intelligenz 🌊\,die dich bei Entscheidungen unterstützt.Du erkennst\, was stimmig ist\,und handelst aus innerer Klarheit. \n✨ Und stell dir vor\, deine Klient:innen spüren diese Klarheit\,weil sie in dir verankert ist.Sie lernen nicht nur über sich –sie erleben Sicherheit im Kontakt mit dir. \n…das Gefühl\, „anders zu sein“\,wandelt sich in Selbstverständlichkeit 🌙.Du stehst zu dir.Du ruhst in dir.Du gehörst dir selbst. \n✨ Und stell dir vor\, du begleitest andere dabei\,sich nicht mehr erklären oder rechtfertigen zu müssen.Sie finden Halt in sich –weil du ihn lebst. \n…Tiefe und Lebensfreude schließen sich nicht aus 🌺.Du nimmst das Leid der Welt wahrund bleibst zugleich genährt\, kreativ und zugewandt.Dein Herz ist offenund dein Leben fühlt sich bewohnbar an. \n✨ Und stell dir vor\, du kannst diesen Raum halten:für Tiefe und Lebendigkeit.Für Ernsthaftigkeit und Leichtigkeit.Für Menschen\, die beides brauchen. \n…dein Nervensystem findet immer wiederin einen Zustand von Ruhe\, Weite und Vertrauen 🌬️.Du bewegst dich durch fordernde Zeitenmit innerer Stabilität und Gelassenheit. \n✨ Und stell dir vor\, deine Präsenz wirkt regulierend.Nicht\, weil du beruhigst –sondern weil du getragen bist.Deine Klient:innen finden in deiner Nähe zurück in ihren Rhythmus. \n…Scham und Schuld weichen einem Gefühl von Berechtigung 🌱.Du erlaubst dir\, Raum einzunehmen.Du erlaubst dir\, sichtbar zu sein.Du erlaubst dir\, ein erfülltes Leben zu führen. \n✨ Und stell dir vor\, du begleitest andere darin\,ihre Existenz als berechtigt zu erleben –emotional\, körperlich und materiell.Ohne Schuld.Ohne innere Abwertung. \n…Selbstfürsorge ist selbstverständlich ☀️.Du erkennst deine Bedürfnisse frühund gehst liebevoll und klar damit um.Dein Alltag wird leichter\, strukturierter und freier. \n✨ Und stell dir vor\, Selbstfürsorge wird für deine Klient:innenvom Konzept zur gelebten Praxis –weil du sie vorlebst und weitergeben kannst. \n…Geld fließt als Ausdruck von Erdung und Wertschätzung 💫.Du nimmst an.Du gestaltest.Du erschaffst Sicherheit und Möglichkeiten – für dich und andere. \n✨ Und stell dir vor\, du kannst Geld\, Wert und Verantwortungauch in der Begleitung anderer integrieren.Natürlich.Geerdet.Ohne innere Trennung. \n✨ Das ist keine ferne Vision.Es ist eine lebendige\, erreichbare Realität –für dich und für die Menschen\, die du begleitest. \nEin Leben\,in dem Sensibilität Kraft bedeutet.🌿 Verbindung.🌿 Gestaltung.🌿 Vertrauen. \n\n\n \nDatum: 16 – 18.1.2026\n\n\nBeginn Freitag\, den 16.1.2026 um 17 Uhr bis 18:30 Uhr\nSamstag\, den 17.1.2026 von 9:90 bis 18:30 Uhr (inkl. 90 Min. Mittagspause)\nSonntag\, den 18.12.2026 von 10 Uhr bis 17 Uhr (inkl. 90 Min. Mittagspause)\n\n  \nPreis: 390 €  \nOrt: online in Zoom mit Aufzeichnung \n\n  \n			\n			\n				\n				\n				\n				\n			\n				\n				\n				\n				\n				\n				\n				zur Bestellung 16.-18.1.2026
URL:https://hsp-academy.de/termin/erdung-hochsensible-hsp-coach-ausbildung/
LOCATION:online
CATEGORIES:Online Seminar
ATTACH;FMTTYPE=image/jpeg:https://hsp-academy.de/wp-content/uploads/2023/05/Modul_4_Erdung_Design_Version2.jpg
ORGANIZER;CN="hsp academy":MAILTO:support[at]hsp-academy.de
END:VEVENT
END:VCALENDAR