BEGIN:VCALENDAR
VERSION:2.0
PRODID:-//hsp academy - Hochsensibilität, Spiritualität, Partnerschaft - ECPv6.15.20//NONSGML v1.0//EN
CALSCALE:GREGORIAN
METHOD:PUBLISH
X-WR-CALNAME:hsp academy - Hochsensibilität, Spiritualität, Partnerschaft
X-ORIGINAL-URL:https://hsp-academy.de
X-WR-CALDESC:Veranstaltungen für hsp academy - Hochsensibilität, Spiritualität, Partnerschaft
REFRESH-INTERVAL;VALUE=DURATION:PT1H
X-Robots-Tag:noindex
X-PUBLISHED-TTL:PT1H
BEGIN:VTIMEZONE
TZID:Europe/Berlin
BEGIN:DAYLIGHT
TZOFFSETFROM:+0100
TZOFFSETTO:+0200
TZNAME:CEST
DTSTART:20210328T010000
END:DAYLIGHT
BEGIN:STANDARD
TZOFFSETFROM:+0200
TZOFFSETTO:+0100
TZNAME:CET
DTSTART:20211031T010000
END:STANDARD
BEGIN:DAYLIGHT
TZOFFSETFROM:+0100
TZOFFSETTO:+0200
TZNAME:CEST
DTSTART:20220327T010000
END:DAYLIGHT
BEGIN:STANDARD
TZOFFSETFROM:+0200
TZOFFSETTO:+0100
TZNAME:CET
DTSTART:20221030T010000
END:STANDARD
BEGIN:DAYLIGHT
TZOFFSETFROM:+0100
TZOFFSETTO:+0200
TZNAME:CEST
DTSTART:20230326T010000
END:DAYLIGHT
BEGIN:STANDARD
TZOFFSETFROM:+0200
TZOFFSETTO:+0100
TZNAME:CET
DTSTART:20231029T010000
END:STANDARD
END:VTIMEZONE
BEGIN:VEVENT
DTSTART;TZID=Europe/Berlin:20220531T193000
DTEND;TZID=Europe/Berlin:20220616T220000
DTSTAMP:20260421T040931
CREATED:20220530T190015Z
LAST-MODIFIED:20220530T204026Z
UID:24119-1654025400-1655416800@hsp-academy.de
SUMMARY:Online Kongress Female Revolution
DESCRIPTION:Female Revolution Kongress: \nHeile Deinen Schoßraum mit Sabrina Haar\n\nvom 31.05.2022 bis zum 16.6.2022 online und kostenfrei\n\n  \nIch spreche in diesem Kongress in 2 Interviews und werde live am 7.6. um 19:30 Uhr eine Live Session geben zum Thema „Verlassenheitsangst und Geburtstrauma“. Melde Dich unbedingt an\, wenn Du Deine weibliche Kraft fördern möchtest. \nFühlst du dich manchmal überfordert\, erschöpft\, kraftlos\, alleine? \nWenn du das ändern und endlich dein wahres Selbst als Frau ausleben willst\, dann lade ich dich herzlich zur Female Revolution ein. \nDas erwartet dich auf der diesjährigen Female Revolution: (hier kostenlos anmelden) \n45 wundervolle Expertinnen die ihr tiefes Wissen über den Schoßraum und über  pränatale Prägungen mit dir teilen \nViele Inspirationen und Tipps wie du deine weibliche Kraft und dein wahres Selbst ausleben kannst indem du dich tief mit deinem Herzen und deiner Gebärmutter verbindest. \nviel Freude beim Austausch in den LIVE Events mit den Expertinnen und mit anderen Event Teilnehmerinnen \nRituale\, Meditationen\, Frauenkreise und vieles mehr \nUnd das Beste daran ist\, dass das Ganze zu 100 % kostenlos ist. \nschau Dir meine Video-Einladung in Youtube an (hier klicken!) \nMelde Dich hier an\, um den kostenlosen Zugang zum Kongress zu erhalten! \n 
URL:https://hsp-academy.de/termin/online-kongress-female-revolution/
LOCATION:Haus Ziel\, Trogenerstrasse 99\, Altstätten\, St. Gallen\, 9450\, Schweiz
CATEGORIES:Online Seminar
ATTACH;FMTTYPE=image/png:https://hsp-academy.de/wp-content/uploads/2022/05/Social-Media-Post-1-980x5511-1.png
END:VEVENT
BEGIN:VEVENT
DTSTART;TZID=Europe/Berlin:20220616T193000
DTEND;TZID=Europe/Berlin:20220626T220000
DTSTAMP:20260421T040931
CREATED:20220530T190015Z
LAST-MODIFIED:20220531T090502Z
UID:24135-1655407800-1656280800@hsp-academy.de
SUMMARY:Lebendigkeits Kongress mit Liv Wach
DESCRIPTION:Lebendigkeits Kongress: (hier anmelden)\n\nSei radikal lebendig mit Liv Wach\n\nvom 16.06.bis zum 26.6.2022 online und kostenfrei\n\n  \nDIESER KONGRESS IST GENAU RICHTIG FÜR DICH\,\nwenn…\n\nDu erkennen willst\, dass Suchtfreiheit & Freiheit einfach ist.\nDeine einzige Sucht nur noch die Sucht nach DIR sein soll!\nDu Sucht oder Krankheiten als Erfolg sehen willst.\nDu tiefsitzende unbekannte Süchte knacken willst\, die Dich von Deinem Potential abhalten.\nDu den Pulsschlag Deiner Lebendigkeit leben willst!\nDu in Deinem Leben nur noch Fülle und Erfolg sein willst!\nDu Selbstliebe als Heilungstool Nummer 1 anwenden willst\, ohne Kampf oder anstrengende Willenskraft\nDu Deine volle Lebenskraft spüren und Deine PS auf die Straße bringen willst!\nDu Deine Such(t)e nach lebendigem Leben sein willst!\nDu Dein Leben radikal rocken willst!\n\n\nWIR SPRECHEN ÜBER:\n\ndie Heilbarkeit von  Sucht und Krankheiten  und über die Freiheit als Dein normaler Grundzustand.\n Süchte und  Krankheiten und warum sie Deine Schatzkiste zur Selbstliebe sind.\n Bewusstseinstraining und Spiritualität und wie Du sie nutzen kannst\, um die beste Version Deiner Selbst zu werden.\nviele Anregungen und Beispiele\, wie Du lebendig und voller Lebensfreude wirst.\nLeichtigkeit\, Erfüllung und Erfolg\, die DU bist. \n\nMit vielen Anregungen aus den verschiedensten Bereichen des Bewusstseins-\, Mentaltrainings und der Spiritualität. \n\nThemen sind u. a. :\n\nBewusstseins- & Mentaltraining\nSpiritualität\nbedingungslose Liebe\, neue Liebesformen\nSexualität & Tantra\nSelbstliebe & Selbstschutz\nLebendigkeit & Leichtigkeit des Lebens\nund viele weitere Impulse und Einblicke der Speaker\n\n\n\n  \n\nMUT machen\, Dich „nackt“ zu machen\, um in die wahre Selbstliebe zu kommen.\n\n\nMUT\, Deine Schattenseiten/Süchte/Krankheiten zu lieben.\n\n\nMUT\, gesellschaftliche und eigene Tabus zu brechen\, um Dein Leben zu rocken.\n\n  \nJetzt kannst Du Dich hier kostenlos anmelden (hier klicken) \n  \n  \nMit dabei sind: \nBruno Würtenberger\, Ludmilla & Roland\, Maria Mariananda Schmejkal (Billy)\, YOD UDO KOLITSCHER\, Sandra Weber\, Satya Marchand\, Heike Engel\, Liv Wach\, Ellen Kalwait-Borck\, Gerlinde Dombrowski\, Padma & Torsten\, Lisa Borchers\, Kevin Heckmann\, Linda Giese\, Jeet Liuzzi\, Aline Brandstetter\, Gerhard Schrabal\, Matthias Langwasser\, Kristina Andrea Frank\, Mario Amenti\, Florian Buschmann\, Anastasia Sitter\, Christiane Seufert\, Beatrix Hasslinger\, Kay Fitzgibbons\, Bob Aeroh fit\, Joy Gabriele\, Nik Frey\, Andreas Frank\, Wolfgang Ehß\, Almut Rettig\, Julia Schmiedel\, Silvia Suryodaya Grupp\, Jenny Kühne\, Erna Hüls\, Martina Sattler \n  \n  \nschau Dir meine Video-Einladung in Youtube an (hier klicken!) \nMelde Dich hier an\, um den kostenlosen Zugang zum Kongress zu erhalten! \n 
URL:https://hsp-academy.de/termin/lebendigkeits-kongress-mit-liv-wach/
LOCATION:Haus Ziel\, Trogenerstrasse 99\, Altstätten\, St. Gallen\, 9450\, Schweiz
CATEGORIES:Online Seminar
ATTACH;FMTTYPE=image/png:https://hsp-academy.de/wp-content/uploads/2022/05/fb_lebendigkeitskongress_gesamt.png
END:VEVENT
END:VCALENDAR