BEGIN:VCALENDAR
VERSION:2.0
PRODID:-//hsp academy - Hochsensibilität, Spiritualität, Partnerschaft - ECPv6.15.20//NONSGML v1.0//EN
CALSCALE:GREGORIAN
METHOD:PUBLISH
X-ORIGINAL-URL:https://hsp-academy.de
X-WR-CALDESC:Veranstaltungen für hsp academy - Hochsensibilität, Spiritualität, Partnerschaft
REFRESH-INTERVAL;VALUE=DURATION:PT1H
X-Robots-Tag:noindex
X-PUBLISHED-TTL:PT1H
BEGIN:VTIMEZONE
TZID:Europe/Berlin
BEGIN:DAYLIGHT
TZOFFSETFROM:+0100
TZOFFSETTO:+0200
TZNAME:CEST
DTSTART:20250330T010000
END:DAYLIGHT
BEGIN:STANDARD
TZOFFSETFROM:+0200
TZOFFSETTO:+0100
TZNAME:CET
DTSTART:20251026T010000
END:STANDARD
BEGIN:DAYLIGHT
TZOFFSETFROM:+0100
TZOFFSETTO:+0200
TZNAME:CEST
DTSTART:20260329T010000
END:DAYLIGHT
BEGIN:STANDARD
TZOFFSETFROM:+0200
TZOFFSETTO:+0100
TZNAME:CET
DTSTART:20261025T010000
END:STANDARD
BEGIN:DAYLIGHT
TZOFFSETFROM:+0100
TZOFFSETTO:+0200
TZNAME:CEST
DTSTART:20270328T010000
END:DAYLIGHT
BEGIN:STANDARD
TZOFFSETFROM:+0200
TZOFFSETTO:+0100
TZNAME:CET
DTSTART:20271031T010000
END:STANDARD
END:VTIMEZONE
BEGIN:VEVENT
DTSTART;TZID=Europe/Berlin:20260509T100000
DTEND;TZID=Europe/Berlin:20260510T170000
DTSTAMP:20260421T182042
CREATED:20240504T080015Z
LAST-MODIFIED:20260421T090649Z
UID:33546-1778320800-1778432400@hsp-academy.de
SUMMARY:Klangmassageausbildung
DESCRIPTION:zur Bestellung\n			\n				\n				\n				\n				\n				\n\n \n\n\nKlangmassage Ausbildung\nKursleitung: Dipl.-Psych. Sylvia Harke\n  \nWas Dich erwartet:\n\nEinführung in die Klangmassage: Lerne die Geschichte\, Theorie und Praxis der Klangmassage kennen.\nPraktische Übungen: Intensive Trainingseinheiten mit tibetischen Klangschalen\, um die Techniken der Klangmassage zu erlernen und zu perfektionieren.\nWirkungsweise der Klänge: Verstehe\, wie Klangschalen Körper\, Geist und Seele positiv beeinflussen können.\nAnwendungsmöglichkeiten: Erfahre\, wie Du die Klangmassage in verschiedenen Bereichen\, wie Wellness\, Therapie und persönlicher Entspannung\, anwenden kannst.\nZertifikat: Nach erfolgreichem Abschluss der Ausbildung erhältst Du ein Zertifikat\, das Deine Fähigkeiten und Kenntnisse in der Klangmassage mit tibetischen Klangschalen bestätigt.\n\n  \nFür wen ist diese Ausbildung geeignet?\nUnsere Ausbildung richtet sich an alle\, die: \n\nInteresse an ganzheitlicher Gesundheit und Heilung haben.\nNeue Wege der Entspannung und Stressbewältigung kennenlernen möchten.\nBeruflich im Wellness- und Gesundheitsbereich tätig sind und ihr Angebot erweitern möchten.\nDie transformative Kraft der Klangschalen persönlich erleben und weitergeben möchten.\nHeilpraktiker\, Masseure\, Kosmetikerinnen\, Yogalehrer\, Lehrer\, Psychologen\, Gruppenleiter und privat Interessierte\n\n  \nDas bekommst Du:\n\nLive vor Ort Schulung von 2 Tagen\nim Schwarzwald\, Landkreis Freudenstadt\, Bad Rippoldsau\nSeminarzeiten \nSa. 9.- So. 10.5.2026mit je 90 Minuten Mittagspause\nPreis: 350 €\nFür Gruppen von 2 bis max 3 Teilnehmern\nWeitere Termine auf Anfrage \n\n\n\n \n\n\n			\n				zur Bestellung\n			\n				\n				\n				\n				\n				\n			\n				\n				\n				\n				\n				Die Klangmassage an einem Wochenende \npraktisch und sicher erlernen\n  \noder um die Klangmassage für Kunden und Freunde anzuwenden. \nDu lernst hier\, die Klangmassage für Klienten durchzuführen und ein harmonisches Set zusammen zu stellen. \nEs folgen Selbsterfahrungsübungen mit den Klangschalen\, spezielle Hörübungen\, um das Erkennen von harmonischen Klangabfolgen zu trainieren\, mehr theoretische Informationen über die Herstellung von Klangschalen und die Bedeutung von Planetentönen\, der Einsatz von Klaviertönen (chromatische Tonleiter). uvm. \nMit Teilnahmebescheinigung (Zertifikat). \n \nVerkauf von Klangschalen\nBei uns erhältst Du speziell ausgwählte und von uns persönlich getestete Klangschalensets zum Kauf. Wir beraten Dich individuell nach Deinen Bedürfnissen. \n  \nThemen auf einen Blick\nUmgang mit den KlangschalenAnschlagetechniken zur Arbeit am Körper oder für Konzerte bzw.Klänge im Raum\, PhantasiereisenAnreiben zum Hervorbringen des ObertonsBearbeitung des Rückens\, der Beine und der Füße mit der KlangschaleArbeit mit Klangschalen auf dem Bauch\, Brustbereich und am Kopftypischer Aufbau einer Klangmassage von 60 Minuten oder 30 MinutenHintergrundinformationen zur Bedeutung von Klangschalen mit PlanetentönenArbeit mit Klaviertönen (chromatische Tonleiter)Du wirst von uns beraten\, ein hochwertiges Klangschalen Set bei uns zu kaufen\,das höchste Ansprüche für den Einsatz in Therapie und Wellness erfüllt \n \nVeransaltungsregion:\nFreudenstadt\, Wolfach\, Schramberg\, Offenburg\, Hausach\, Baden-Baden\, Pforzheim\, Stuttgart\, Nahgold\, Horb am Neckar\, Villingen Schwenningen\, Rottweil\, Bodensee\, Schwarzwald\, Hochschwarzwald\, Basel\, Straßburg\, Leonberg\, Heidelberg\, Mannheim\, \n \nBitte mitbringen\n  \n\nbequeme Kleidung\neine warme Decke\, ein Kissen\nwarme Socken\neigene Klangschalen\, wenn vorhanden\n\n			\n				zur Bestellung\n			\n				\n				\n				\n				\n				\n			\n			\n				\n				\n				\n				\n			\n				\n				\n			\n				\n				\n				\n				\n				\n				\n				\n				\n				\n				\n				\n				\n				\n				\n				\n				\n				\n				Herzlichen Dank für eure lehrreiche Ausbildung für Klangmassage. Es hat richtig Spaß gemacht in dieser Gruppe. Auch die intensive Einführung der verschiedenen Klangschalen mit ihren besonderen Tönen. Habe seit diesem Ausbildungs WE viel besseres Gehör. Mit meinem rechten Ohr\, das über 10 Jahre mir immer wieder Beschwerden gemacht hat. Auch Behandle ich mich täglich selbst und es bringt mich sehr schnell wieder in meine Mitte. Ich bin ganz glücklich darüber\, diese Erfahrungen mit euch gemacht zu haben. Die Auswahl eurer Klangschalen sind von hoher Qualität\, ich habe für mich die richtige Auswahl getroffen. Meine Kunden fanden es als eine Bereicherung\, Klangmassage in meiner doch sehr großen Auswahl zu finden. Auch in meiner Wasserarbeit mit Aqua Wellness habe ich die Klangschalen mit eingebracht und ein tolles Feedback erhalten. Ich wünsche euch Zwei weiterhin VIEL ERFOLG. Ganz liebe Grüße\, Anita Auer\, Gottmadingen \nhttp://www.aqua-relax-beauty.de \n 
URL:https://hsp-academy.de/termin/klangmassage-ausbildung-2026/
LOCATION:Freudenstadt\, Freudenstadt\, 72250
CATEGORIES:Seminare
ATTACH;FMTTYPE=image/jpeg:https://hsp-academy.de/wp-content/uploads/2024/05/shutterstock_662054482.jpg
ORGANIZER;CN="hsp academy":MAILTO:support[at]hsp-academy.de
END:VEVENT
BEGIN:VEVENT
DTSTART;TZID=Europe/Berlin:20260530T093000
DTEND;TZID=Europe/Berlin:20260531T170000
DTSTAMP:20260421T182042
CREATED:20240504T080015Z
LAST-MODIFIED:20260421T091338Z
UID:34684-1780133400-1780246800@hsp-academy.de
SUMMARY:Klangmassageausbildung
DESCRIPTION:zur Bestellung\n			\n				\n				\n				\n				\n				\n\n \n\n\nKlangmassage Ausbildung\nKursleitung: Dipl.-Psych. Sylvia Harke\n  \nWas Dich erwartet:\n\nEinführung in die Klangmassage: Lerne die Geschichte\, Theorie und Praxis der Klangmassage kennen.\nPraktische Übungen: Intensive Trainingseinheiten mit tibetischen Klangschalen\, um die Techniken der Klangmassage zu erlernen und zu perfektionieren.\nWirkungsweise der Klänge: Verstehe\, wie Klangschalen Körper\, Geist und Seele positiv beeinflussen können.\nAnwendungsmöglichkeiten: Erfahre\, wie Du die Klangmassage in verschiedenen Bereichen\, wie Wellness\, Therapie und persönlicher Entspannung\, anwenden kannst.\nZertifikat: Nach erfolgreichem Abschluss der Ausbildung erhältst Du ein Zertifikat\, das Deine Fähigkeiten und Kenntnisse in der Klangmassage mit tibetischen Klangschalen bestätigt.\n\n  \nFür wen ist diese Ausbildung geeignet?\nUnsere Ausbildung richtet sich an alle\, die: \n\nInteresse an ganzheitlicher Gesundheit und Heilung haben.\nNeue Wege der Entspannung und Stressbewältigung kennenlernen möchten.\nBeruflich im Wellness- und Gesundheitsbereich tätig sind und ihr Angebot erweitern möchten.\nDie transformative Kraft der Klangschalen persönlich erleben und weitergeben möchten.\nHeilpraktiker\, Masseure\, Kosmetikerinnen\, Yogalehrer\, Lehrer\, Psychologen\, Gruppenleiter und privat Interessierte\n\n  \nDas bekommst Du:\n\nLive vor Ort Schulung von 2 Tagen\nim Schwarzwald\, Landkreis Freudenstadt\nSeminarzeiten \nSa. 30.5.2026 von 9:30 -17:30 Uhr\nSo. 31.5.2026 von 09:30 – 17:00 Uhrmit je 90 Minuten Mittagspause\nbei Gruppen ab 2 Teilnehmern = 350 €\nFür Gruppen von 2 bis max 4 Teilnehmern\nWeitere Termine auf Anfrage\n\n\n\n \n\n\n			\n				zur Bestellung\n			\n				\n				\n				\n				\n				\n			\n				\n				\n				\n				\n				Die Klangmassage an einem Wochenende \npraktisch und sicher erlernen\n  \noder um die Klangmassage für Kunden und Freunde anzuwenden. \nDu lernst hier\, die Klangmassage für Klienten durchzuführen und ein harmonisches Set zusammen zu stellen. \nEs folgen Selbsterfahrungsübungen mit den Klangschalen\, spezielle Hörübungen\, um das Erkennen von harmonischen Klangabfolgen zu trainieren\, mehr theoretische Informationen über die Herstellung von Klangschalen und die Bedeutung von Planetentönen\, der Einsatz von Klaviertönen (chromatische Tonleiter). uvm. \nMit Teilnahmebescheinigung (Zertifikat). \n \nVerkauf von Klangschalen\nBei uns erhältst Du speziell ausgwählte und von uns persönlich getestete Klangschalensets zum Kauf. Wir beraten Dich individuell nach Deinen Bedürfnissen. \n  \nThemen auf einen Blick\nUmgang mit den KlangschalenAnschlagetechniken zur Arbeit am Körper oder für Konzerte bzw.Klänge im Raum\, PhantasiereisenAnreiben zum Hervorbringen des ObertonsBearbeitung des Rückens\, der Beine und der Füße mit der KlangschaleArbeit mit Klangschalen auf dem Bauch\, Brustbereich und am Kopftypischer Aufbau einer Klangmassage von 60 Minuten oder 30 MinutenHintergrundinformationen zur Bedeutung von Klangschalen mit PlanetentönenArbeit mit Klaviertönen (chromatische Tonleiter)Du wirst von uns beraten\, ein hochwertiges Klangschalen Set bei uns zu kaufen\,das höchste Ansprüche für den Einsatz in Therapie und Wellness erfüllt \n \nVeransaltungsregion:\nFreudenstadt\, Wolfach\, Schramberg\, Offenburg\, Hausach\, Baden-Baden\, Pforzheim\, Stuttgart\, Nahgold\, Horb am Neckar\, Villingen Schwenningen\, Rottweil\, Bodensee\, Schwarzwald\, Hochschwarzwald\, Basel\, Straßburg\, Leonberg\, Heidelberg\, Mannheim\, \n \nBitte mitbringen\n  \n\nbequeme Kleidung\neine warme Decke\, ein Kissen\nwarme Socken\neigene Klangschalen\, wenn vorhanden\n\n			\n				zur Bestellung\n			\n				\n				\n				\n				\n				\n			\n			\n				\n				\n				\n				\n			\n				\n				\n			\n				\n				\n				\n				\n				\n				\n				\n				\n				\n				\n				\n				\n				\n				\n				\n				\n				\n				Herzlichen Dank für eure lehrreiche Ausbildung für Klangmassage. Es hat richtig Spaß gemacht in dieser Gruppe. Auch die intensive Einführung der verschiedenen Klangschalen mit ihren besonderen Tönen. Habe seit diesem Ausbildungs WE viel besseres Gehör. Mit meinem rechten Ohr\, das über 10 Jahre mir immer wieder Beschwerden gemacht hat. Auch Behandle ich mich täglich selbst und es bringt mich sehr schnell wieder in meine Mitte. Ich bin ganz glücklich darüber\, diese Erfahrungen mit euch gemacht zu haben. Die Auswahl eurer Klangschalen sind von hoher Qualität\, ich habe für mich die richtige Auswahl getroffen. Meine Kunden fanden es als eine Bereicherung\, Klangmassage in meiner doch sehr großen Auswahl zu finden. Auch in meiner Wasserarbeit mit Aqua Wellness habe ich die Klangschalen mit eingebracht und ein tolles Feedback erhalten. Ich wünsche euch Zwei weiterhin VIEL ERFOLG. Ganz liebe Grüße\, Anita Auer\, Gottmadingen \nhttp://www.aqua-relax-beauty.de   \n 
URL:https://hsp-academy.de/termin/klangmassage-ausbildung-2024-2/
LOCATION:Freudenstadt\, Freudenstadt\, 72250
CATEGORIES:Seminare
ATTACH;FMTTYPE=image/jpeg:https://hsp-academy.de/wp-content/uploads/2024/05/shutterstock_662054482.jpg
ORGANIZER;CN="hsp academy":MAILTO:support[at]hsp-academy.de
END:VEVENT
END:VCALENDAR