BEGIN:VCALENDAR
VERSION:2.0
PRODID:-//hsp academy - Hochsensibilität, Spiritualität, Partnerschaft - ECPv6.15.20//NONSGML v1.0//EN
CALSCALE:GREGORIAN
METHOD:PUBLISH
X-ORIGINAL-URL:https://hsp-academy.de
X-WR-CALDESC:Veranstaltungen für hsp academy - Hochsensibilität, Spiritualität, Partnerschaft
REFRESH-INTERVAL;VALUE=DURATION:PT1H
X-Robots-Tag:noindex
X-PUBLISHED-TTL:PT1H
BEGIN:VTIMEZONE
TZID:Europe/Berlin
BEGIN:DAYLIGHT
TZOFFSETFROM:+0100
TZOFFSETTO:+0200
TZNAME:CEST
DTSTART:20220327T010000
END:DAYLIGHT
BEGIN:STANDARD
TZOFFSETFROM:+0200
TZOFFSETTO:+0100
TZNAME:CET
DTSTART:20221030T010000
END:STANDARD
BEGIN:DAYLIGHT
TZOFFSETFROM:+0100
TZOFFSETTO:+0200
TZNAME:CEST
DTSTART:20230326T010000
END:DAYLIGHT
BEGIN:STANDARD
TZOFFSETFROM:+0200
TZOFFSETTO:+0100
TZNAME:CET
DTSTART:20231029T010000
END:STANDARD
BEGIN:DAYLIGHT
TZOFFSETFROM:+0100
TZOFFSETTO:+0200
TZNAME:CEST
DTSTART:20240331T010000
END:DAYLIGHT
BEGIN:STANDARD
TZOFFSETFROM:+0200
TZOFFSETTO:+0100
TZNAME:CET
DTSTART:20241027T010000
END:STANDARD
END:VTIMEZONE
BEGIN:VEVENT
DTSTART;TZID=Europe/Berlin:20230127T150000
DTEND;TZID=Europe/Berlin:20230129T190000
DTSTAMP:20260420T003908
CREATED:20221221T183043Z
LAST-MODIFIED:20221221T183043Z
UID:28805-1674831600-1675018800@hsp-academy.de
SUMMARY:Modul 1 Sensitive Soul Coach Ausbildung
DESCRIPTION:Senstive Soul Coach Ausbildung-\nModul 1: Abgrenzung und Ich-Stärkung\n  \nLive Seminar mit Psychologin Sylvia Harke \n			\n				\n				\n				\n				\n				Folgende Themen werden besprochen und erläutert \n  \n\nIch\, Ego\, Transzendenz\nIch-Schwäche bei Hochsensiblen\nIch und Ego Verwechslung\nIch-Stärkung für Hochsensible\, warum ist das so wichtig und wie geht das?\nder Wesenskern\, Erläuterung und Meditation\nJa zum eigenen Ich\nAbgrenzung gegenüber anderen\nEnergievampire erkennen\, Kontrolldramen benennen\neigene Kontrolldramen erkennen und auflösen\nGefühle: Wut\, Aggression\, Revierverteidigung verstehen\nwenn Hochsensible ihre Wut nicht spüren können\nAngst vor Machtmissbrauch\nWut regulieren\nLöwenmeditation zur Ich-Kraftstärkung und Revierstärkung\nmit Aufzeichnung\nschriftliches Arbeitsmaterial als PDF zum Ausdrucken\n\n\n			\n			\n				\n				\n				\n				\n			\n				\n				\n				\n				\n				\n				\n				zur Bestellung
URL:https://hsp-academy.de/termin/abgrenzung-ich-staerkung-hochsensible-hsp-coach-ausbildung-3/
LOCATION:Haus Ziel\, Trogenerstrasse 99\, Altstätten\, St. Gallen\, 9450\, Schweiz
CATEGORIES:Online Seminar
ATTACH;FMTTYPE=image/jpeg:https://hsp-academy.de/wp-content/uploads/2022/12/Ausbildung-Veranstaltung-Modul-1-1.jpg
ORGANIZER;CN="hsp academy":MAILTO:support[at]hsp-academy.de
END:VEVENT
END:VCALENDAR