BEGIN:VCALENDAR
VERSION:2.0
PRODID:-//hsp academy - Hochsensibilität, Spiritualität, Partnerschaft - ECPv6.15.20//NONSGML v1.0//EN
CALSCALE:GREGORIAN
METHOD:PUBLISH
X-ORIGINAL-URL:https://hsp-academy.de
X-WR-CALDESC:Veranstaltungen für hsp academy - Hochsensibilität, Spiritualität, Partnerschaft
REFRESH-INTERVAL;VALUE=DURATION:PT1H
X-Robots-Tag:noindex
X-PUBLISHED-TTL:PT1H
BEGIN:VTIMEZONE
TZID:Europe/Berlin
BEGIN:DAYLIGHT
TZOFFSETFROM:+0100
TZOFFSETTO:+0200
TZNAME:CEST
DTSTART:20220327T010000
END:DAYLIGHT
BEGIN:STANDARD
TZOFFSETFROM:+0200
TZOFFSETTO:+0100
TZNAME:CET
DTSTART:20221030T010000
END:STANDARD
BEGIN:DAYLIGHT
TZOFFSETFROM:+0100
TZOFFSETTO:+0200
TZNAME:CEST
DTSTART:20230326T010000
END:DAYLIGHT
BEGIN:STANDARD
TZOFFSETFROM:+0200
TZOFFSETTO:+0100
TZNAME:CET
DTSTART:20231029T010000
END:STANDARD
BEGIN:DAYLIGHT
TZOFFSETFROM:+0100
TZOFFSETTO:+0200
TZNAME:CEST
DTSTART:20240331T010000
END:DAYLIGHT
BEGIN:STANDARD
TZOFFSETFROM:+0200
TZOFFSETTO:+0100
TZNAME:CET
DTSTART:20241027T010000
END:STANDARD
END:VTIMEZONE
BEGIN:VEVENT
DTSTART;TZID=Europe/Berlin:20230831T200000
DTEND;TZID=Europe/Berlin:20230831T220000
DTSTAMP:20260421T194403
CREATED:20220714T080015Z
LAST-MODIFIED:20230828T081438Z
UID:30210-1693512000-1693519200@hsp-academy.de
SUMMARY:Vollmond Meditation: 31.8.23
DESCRIPTION:zur Bestellung 33 €\n			\n				\n				\n				\n				\n				Vollmond Live-Meditation mit Sylvia Harke\nVision Board basteln am Donnerstag\, den 31.8.2023 um 20:00 Uhr\n  \nHerzlich willkommen in der Live Vollmond Gruppen Meditation mit Sylvia Harke. \nGemeinsam erschaffen wir ein heilsames Feld zur Herzöffnung\, am Vollmond den 31.8.2023 treffen wir uns online in einem geschützen Raum (online) und kreieren ein hoch schwingendes Feld für: \neine Herzöffnungfür Selbstliebefür mehr Fülle in Deinem LebenDu verbindest Dich mit Deinem zukünftigen Selbst & Deiner Zukunftsvision. \nGemeinsam aktivieren wir eine positive Zukunftsvision\, unterstützen Veränderungen und lauschen mutig zu unserem kreativen Potential. Die Gruppenmeditation ist ideal\, um neue Projekte zu beginnen. In einer Gruppe verstärken sich die Energien durch die gemeinsame Konzentration. Vollmond in den Fischen ist eine gute Zeit\, um Ideen zu empfangen und Dich tief mit Deiner spirituellen Weisheit zu verbinden. \nIn einem Gruppen Ritual findest Du Raum\, um Deine  Visionen und Wünsche mit Hilfe von Papier\, Stiften und Zeitungsausschnitten\, sowie Fotos von Dir in einem Vision-Board festzuhalten. \n  \n			\n				zur Bestellung 33 €\n			\n				\n				\n				\n				\n				Bitte halte zur Meditation folgende Dinge bereit: \n          \n1.) eine Kerze \n2.) etwas zum Schreiben und Malen\, ein Foto von Dir zum Aufkleben\, Zeitungsauschnitte von Magazinen\, wie Happinez\, Herzstück usw. \n3.) Eine Schüssel \n4.) ein Feuerzeug \n5.) Räucherstäbchen oder Duftspray \n6.) Kartenset (wenn vorhanden) \n7.) Schreibe Dir auf\, was oder wen Du loslassen möchtest \nFür die Teilnahme am Online Seminar brauchst Du einen Internetzugang\, eine Web-Kamera (eventuell ein Mikrofon) und das kostenlose Programm „Zoom“. \nMelde Dich hier an\, um den Zugang zum geschützten Zoom Seminar zu erhalten! Der Verkauf erfolgt durch Digistore24.de
URL:https://hsp-academy.de/termin/vollmond-meditation-31-august-2023/
CATEGORIES:Online Seminar
ATTACH;FMTTYPE=image/jpeg:https://hsp-academy.de/wp-content/uploads/2022/07/Vollmond-Meditation-31.8-1.jpg
ORGANIZER;CN="hsp academy":MAILTO:support[at]hsp-academy.de
END:VEVENT
END:VCALENDAR